BEGIN:VCALENDAR
PRODID:-//event//iCal4j 1.0//EN
CALSCALE:GREGORIAN
BEGIN:VEVENT
DTSTAMP:20260425T014928Z
DTSTART:20260922T170000Z
DTEND:20260922T183000Z
SUMMARY:september-2026-supporting-multilingual-learners0
LOCATION:
END:VEVENT
END:VCALENDAR
