BEGIN:VCALENDAR
PRODID:-//event//iCal4j 1.0//EN
CALSCALE:GREGORIAN
BEGIN:VEVENT
DTSTAMP:20260425T023205Z
DTSTART:20260915T170000Z
DTEND:20260915T183000Z
SUMMARY:september-2026-supporting-multilingual-learners
LOCATION:
END:VEVENT
END:VCALENDAR
