BEGIN:VCALENDAR
PRODID:-//event//iCal4j 1.0//EN
CALSCALE:GREGORIAN
BEGIN:VEVENT
DTSTAMP:20260424T155814Z
DTSTART:20260629T210000Z
DTEND:20260629T223000Z
SUMMARY:june-29-2026-advisory-workgroup
LOCATION:
END:VEVENT
END:VCALENDAR
