BEGIN:VCALENDAR
PRODID:-//event//iCal4j 1.0//EN
CALSCALE:GREGORIAN
BEGIN:VEVENT
DTSTAMP:20260424T171942Z
DTSTART:20260708T223000Z
DTEND:20260708T233000Z
SUMMARY:july-idec-tech-talks
LOCATION:
END:VEVENT
END:VCALENDAR
