BEGIN:VCALENDAR
PRODID:-//event//iCal4j 1.0//EN
CALSCALE:GREGORIAN
BEGIN:VEVENT
DTSTAMP:20260424T182831Z
DTSTART:20260714T220000Z
DTEND:20260715T000000Z
SUMMARY:july-2026-tac
LOCATION:
END:VEVENT
END:VCALENDAR
