BEGIN:VCALENDAR
PRODID:-//event//iCal4j 1.0//EN
CALSCALE:GREGORIAN
BEGIN:VEVENT
DTSTAMP:20260424T194017Z
DTSTART:20260818T200000Z
DTEND:20260818T213000Z
SUMMARY:august-2026-tac
LOCATION:
END:VEVENT
END:VCALENDAR
