BEGIN:VCALENDAR
PRODID:-//event//iCal4j 1.0//EN
CALSCALE:GREGORIAN
BEGIN:VEVENT
DTSTAMP:20260424T212148Z
DTSTART:20260804T170000Z
DTEND:20260804T183000Z
SUMMARY:august-2026-supporting-multilingual-learners
LOCATION:
END:VEVENT
END:VCALENDAR
